BEGIN:VCALENDAR
VERSION:2.0
PRODID:-//Subiaco Primary School - ECPv6.15.20//NONSGML v1.0//EN
CALSCALE:GREGORIAN
METHOD:PUBLISH
X-ORIGINAL-URL:https://subiacops.wa.edu.au
X-WR-CALDESC:Events for Subiaco Primary School
REFRESH-INTERVAL;VALUE=DURATION:PT1H
X-Robots-Tag:noindex
X-PUBLISHED-TTL:PT1H
BEGIN:VTIMEZONE
TZID:Australia/Perth
BEGIN:STANDARD
TZOFFSETFROM:+0800
TZOFFSETTO:+0800
TZNAME:AWST
DTSTART:20250101T000000
END:STANDARD
END:VTIMEZONE
BEGIN:VEVENT
DTSTART;TZID=Australia/Perth:20260306T064500
DTEND;TZID=Australia/Perth:20260306T080000
DTSTAMP:20260420T182150
CREATED:20260120T054906Z
LAST-MODIFIED:20260120T054906Z
UID:3370-1772779500-1772784000@subiacops.wa.edu.au
SUMMARY:Year 4-6 Before School Swimming Squad
DESCRIPTION:The Before School Swimming Squad is aimed at swimmers level 7 and above and is separate from the regular in-school swimming program. \nSessions will be held at the Perth High Performance Stadium (previously Challenge Stadium) Stephenson Avenue\, Mount Claremont 6010 \n  \nFor any further information please email ashley.clancy@education.wa.edu.au
URL:https://subiacops.wa.edu.au/calendar/year-4-6-before-school-swimming-squad-6/
LOCATION:Perth High Performance Centre\, 100 Stephenson Ave\, Mount Claremont\, WA\, 6010\, Australia
CATEGORIES:Sport - Athletics and Swimming
END:VEVENT
BEGIN:VEVENT
DTSTART;TZID=Australia/Perth:20260306T084500
DTEND;TZID=Australia/Perth:20260306T151000
DTSTAMP:20260420T182150
CREATED:20260208T091420Z
LAST-MODIFIED:20260212T070507Z
UID:3435-1772786700-1772809800@subiacops.wa.edu.au
SUMMARY:Junior Swimming Carnival
DESCRIPTION:Year 3 – 8.50 to 10.50am.\nYear 2 -11.30am to 1.30pm.\nYear 1 – 1.50 to 3.10pm.
URL:https://subiacops.wa.edu.au/calendar/junior-swimming-carnival/
CATEGORIES:Sport - Athletics and Swimming
END:VEVENT
END:VCALENDAR