BEGIN:VCALENDAR
VERSION:2.0
PRODID:-//Subiaco Primary School - ECPv6.15.20//NONSGML v1.0//EN
CALSCALE:GREGORIAN
METHOD:PUBLISH
X-ORIGINAL-URL:https://subiacops.wa.edu.au
X-WR-CALDESC:Events for Subiaco Primary School
REFRESH-INTERVAL;VALUE=DURATION:PT1H
X-Robots-Tag:noindex
X-PUBLISHED-TTL:PT1H
BEGIN:VTIMEZONE
TZID:Australia/Perth
BEGIN:STANDARD
TZOFFSETFROM:+0800
TZOFFSETTO:+0800
TZNAME:AWST
DTSTART:20250101T000000
END:STANDARD
END:VTIMEZONE
BEGIN:VEVENT
DTSTART;TZID=Australia/Perth:20260518T190000
DTEND;TZID=Australia/Perth:20260518T203000
DTSTAMP:20260421T224416
CREATED:20260212T074743Z
LAST-MODIFIED:20260329T090318Z
UID:3564-1779130800-1779136200@subiacops.wa.edu.au
SUMMARY:P&C Meeting
DESCRIPTION:
URL:https://subiacops.wa.edu.au/calendar/pc-meeting-3/
CATEGORIES:P&C
END:VEVENT
END:VCALENDAR