BEGIN:VCALENDAR
VERSION:2.0
PRODID:-//Subiaco Primary School - ECPv6.15.20//NONSGML v1.0//EN
CALSCALE:GREGORIAN
METHOD:PUBLISH
X-WR-CALNAME:Subiaco Primary School
X-ORIGINAL-URL:https://subiacops.wa.edu.au
X-WR-CALDESC:Events for Subiaco Primary School
REFRESH-INTERVAL;VALUE=DURATION:PT1H
X-Robots-Tag:noindex
X-PUBLISHED-TTL:PT1H
BEGIN:VTIMEZONE
TZID:Australia/Perth
BEGIN:STANDARD
TZOFFSETFROM:+0800
TZOFFSETTO:+0800
TZNAME:AWST
DTSTART:20250101T000000
END:STANDARD
END:VTIMEZONE
BEGIN:VEVENT
DTSTART;TZID=Australia/Perth:20260424T064500
DTEND;TZID=Australia/Perth:20260424T080000
DTSTAMP:20260424T015623
CREATED:20260120T055918Z
LAST-MODIFIED:20260120T055918Z
UID:3389-1777013100-1777017600@subiacops.wa.edu.au
SUMMARY:Year 4-6 Before School Swimming Squad
DESCRIPTION:The Before School Swimming Squad is aimed at swimmers level 7 and above and is separate from the regular in-school swimming program. \nSessions will be held at the Perth High Performance Stadium (previously Challenge Stadium) Stephenson Avenue\, Mount Claremont 6010. \n  \nFor any further information please email ashley.clancy@education.wa.edu.au
URL:https://subiacops.wa.edu.au/calendar/year-4-6-before-school-swimming-squad-14/
LOCATION:Perth High Performance Centre\, 100 Stephenson Ave\, Mount Claremont\, WA\, 6010\, Australia
CATEGORIES:Sport - Athletics and Swimming
END:VEVENT
BEGIN:VEVENT
DTSTART;TZID=Australia/Perth:20260424T090000
DTEND;TZID=Australia/Perth:20260424T094500
DTSTAMP:20260424T015623
CREATED:20260212T071315Z
LAST-MODIFIED:20260304T084024Z
UID:3527-1777021200-1777023900@subiacops.wa.edu.au
SUMMARY:Anzac Assembly
DESCRIPTION:
URL:https://subiacops.wa.edu.au/calendar/anzac-day-assembly/
CATEGORIES:Assembly
END:VEVENT
END:VCALENDAR